BEGIN:VCALENDAR
VERSION:2.0
METHOD:PUBLISH
PRODID::-//Obvius//NONSGML ICal//DA
BEGIN:VEVENT
UID:3982985@www.econ.ku.dk
DESCRIPTION:Nikolaj Nielsen forsvarer sin ph.d.-afhandling: "The Econometr
 ics of Perturbed Utility and Demand Inversion"\n\nhttps://www.econ.ku.dk/K
 alender/phdforsvar/nikolaj-nielsen-forsvarer-sin-ph.d./
SUMMARY:Nikolaj Nielsen forsvarer sin ph.d.-afhandling
CATEGORIES:Ph.d.-forsvar
LOCATION:CSS 26.2.21
DTSTART:20210903T130000Z
DTSTAMP:20210903T130000Z
END:VEVENT
END:VCALENDAR
